BEGIN:VCALENDAR
VERSION:2.0
PRODID:icalendar-ruby
CALSCALE:GREGORIAN
BEGIN:VEVENT
DTSTAMP:20260424T093615Z
UID:93e1546d-7948-4b5b-90a5-6b920d101f2b
DTSTART;TZID=Pacific/Auckland:20260426T110000
DTEND;TZID=Pacific/Auckland:20260426T113000
DESCRIPTION:Property ID# 605521
SUMMARY:Openhome for 13 Daniell Street
END:VEVENT
END:VCALENDAR
