BEGIN:VCALENDAR
VERSION:2.0
PRODID:icalendar-ruby
CALSCALE:GREGORIAN
BEGIN:VEVENT
DTSTAMP:20260420T080414Z
UID:28236107-c284-4393-be0b-07244e86d172
DTSTART;TZID=Pacific/Auckland:20260419T123000
DTEND;TZID=Pacific/Auckland:20260419T130000
DESCRIPTION:Property ID# 606484
SUMMARY:Openhome for 29 Mascot Street
END:VEVENT
END:VCALENDAR
