BEGIN:VCALENDAR
VERSION:2.0
PRODID:icalendar-ruby
CALSCALE:GREGORIAN
BEGIN:VEVENT
DTSTAMP:20260420T080200Z
UID:4311a6f2-0b3e-4d94-8c68-9bf99ea6c871
DTSTART;TZID=Pacific/Auckland:20260419T140000
DTEND;TZID=Pacific/Auckland:20260419T143000
DESCRIPTION:Property ID# 605657
SUMMARY:Openhome for 15 Romney Square
END:VEVENT
END:VCALENDAR
