BEGIN:VCALENDAR
VERSION:2.0
PRODID:icalendar-ruby
CALSCALE:GREGORIAN
BEGIN:VEVENT
DTSTAMP:20260420T074530Z
UID:d256e454-23c1-422d-9eed-3e976995ab94
DTSTART;VALUE=DATE:20260506
DESCRIPTION:Property ID# 606484\, Locatoin: Harcourts Tawa Realty Ltd\, 215
  Main Road\, Tawa\, Time: 4:00PM
SUMMARY:Auction for 29 Mascot Street
END:VEVENT
END:VCALENDAR
